BEGIN:VCALENDAR
VERSION:2.0
PRODID:-//Saint Agnes Catholic Church - ECPv6.6.4.2//NONSGML v1.0//EN
CALSCALE:GREGORIAN
METHOD:PUBLISH
X-ORIGINAL-URL:https://saintagnes.org
X-WR-CALDESC:Events for Saint Agnes Catholic Church
REFRESH-INTERVAL;VALUE=DURATION:PT1H
X-Robots-Tag:noindex
X-PUBLISHED-TTL:PT1H
BEGIN:VTIMEZONE
TZID:America/New_York
BEGIN:DAYLIGHT
TZOFFSETFROM:-0500
TZOFFSETTO:-0400
TZNAME:EDT
DTSTART:20240310T070000
END:DAYLIGHT
BEGIN:STANDARD
TZOFFSETFROM:-0400
TZOFFSETTO:-0500
TZNAME:EST
DTSTART:20241103T060000
END:STANDARD
END:VTIMEZONE
BEGIN:VEVENT
DTSTART;TZID=America/New_York:20241030T183000
DTEND;TZID=America/New_York:20241030T204500
DTSTAMP:20260425T063458
CREATED:20240911T153159Z
LAST-MODIFIED:20240911T153159Z
UID:3112-1730313000-1730321100@saintagnes.org
SUMMARY:Day 7 - The Rescue Project
DESCRIPTION:Come for an 8-week small group experience of the Gospel.  Dates are:  Sept. 18\, 25\, Oct. 2\, 9\, 16\, 23\, 30\, and Nov. 6.  Link to register:  https://www.eventbrite.com/e/rescue-project-tickets-1001702819097?aff=oddtdtcreator
URL:https://saintagnes.org/upcoming_event/day-7-the-rescue-project/
LOCATION:St. Agnes Parish Hall\, 1910 N Randolph St\, Arlington\, VA\, 22207\, United States
ATTACH;FMTTYPE=image/png:https://saintagnes.org/wp-content/uploads/rescuelogo.png
END:VEVENT
END:VCALENDAR