BEGIN:VCALENDAR
VERSION:2.0
PRODID:-//Saint Agnes Catholic Church - ECPv6.6.4.2//NONSGML v1.0//EN
CALSCALE:GREGORIAN
METHOD:PUBLISH
X-WR-CALNAME:Saint Agnes Catholic Church
X-ORIGINAL-URL:https://saintagnes.org
X-WR-CALDESC:Events for Saint Agnes Catholic Church
REFRESH-INTERVAL;VALUE=DURATION:PT1H
X-Robots-Tag:noindex
X-PUBLISHED-TTL:PT1H
BEGIN:VTIMEZONE
TZID:America/New_York
BEGIN:DAYLIGHT
TZOFFSETFROM:-0500
TZOFFSETTO:-0400
TZNAME:EDT
DTSTART:20260308T070000
END:DAYLIGHT
BEGIN:STANDARD
TZOFFSETFROM:-0400
TZOFFSETTO:-0500
TZNAME:EST
DTSTART:20261101T060000
END:STANDARD
END:VTIMEZONE
BEGIN:VEVENT
DTSTART;TZID=America/New_York:20260421T193000
DTEND;TZID=America/New_York:20260421T210000
DTSTAMP:20260421T075907
CREATED:20240828T153505Z
LAST-MODIFIED:20260416T192803Z
UID:3070-1776799800-1776805200@saintagnes.org
SUMMARY:Msgr. Saunders' Bible Study
DESCRIPTION:The Bible Study is on April 21st.  We are studying the Gospel of St. John. \nCome every Tuesday at 7:30 p.m. in the Parish Hall for Father Saunders’ Bible Study.
URL:https://saintagnes.org/upcoming_event/father-saunders-bible-study-restarts/
LOCATION:St. Agnes Parish Hall\, 1910 N Randolph St\, Arlington\, VA\, 22207\, United States
ATTACH;FMTTYPE=image/jpeg:https://saintagnes.org/wp-content/uploads/study2.jpg
END:VEVENT
END:VCALENDAR